BEGIN:VCALENDAR
VERSION:2.0
PRODID:-//pretix//ZAM_Ticketing//
BEGIN:VTIMEZONE
TZID:Europe/Berlin
BEGIN:STANDARD
DTSTART:20001029T040000
RRULE:FREQ=YEARLY;BYDAY=-1SU;BYMONTH=10
TZNAME:CET
TZOFFSETFROM:+0200
TZOFFSETTO:+0100
END:STANDARD
BEGIN:DAYLIGHT
DTSTART:20000326T030000
RRULE:FREQ=YEARLY;BYDAY=-1SU;BYMONTH=3
TZNAME:CEST
TZOFFSETFROM:+0100
TZOFFSETTO:+0200
END:DAYLIGHT
END:VTIMEZONE
BEGIN:VEVENT
UID:pretix-bnb-wicmp10-0@ticketing.zam.haus
DTSTART;TZID=Europe/Berlin:20250228T130000
DTEND;TZID=Europe/Berlin:20250302T235900
DESCRIPTION:Tickets: https://ticketing.zam.haus/bnb/wicmp10/\nVeranstalter:
  Bits'n'Bugs e.V.
DTSTAMP:20260421T153842Z
LOCATION:Zentrum für Austausch und Machen\, Hauptstraße 65-67\, 91054 Erl
 angen
SUMMARY:Wintergalaktische Club-Mate-Party
END:VEVENT
END:VCALENDAR
